BEGIN:VCALENDAR
VERSION:2.0
PRODID:-//Rochester Archery Club - ECPv6.15.20//NONSGML v1.0//EN
CALSCALE:GREGORIAN
METHOD:PUBLISH
X-WR-CALNAME:Rochester Archery Club
X-ORIGINAL-URL:https://rochesterarcheryclub.com
X-WR-CALDESC:Events for Rochester Archery Club
REFRESH-INTERVAL;VALUE=DURATION:PT1H
X-Robots-Tag:noindex
X-PUBLISHED-TTL:PT1H
BEGIN:VTIMEZONE
TZID:America/New_York
BEGIN:DAYLIGHT
TZOFFSETFROM:-0500
TZOFFSETTO:-0400
TZNAME:EDT
DTSTART:20220313T070000
END:DAYLIGHT
BEGIN:STANDARD
TZOFFSETFROM:-0400
TZOFFSETTO:-0500
TZNAME:EST
DTSTART:20221106T060000
END:STANDARD
BEGIN:DAYLIGHT
TZOFFSETFROM:-0500
TZOFFSETTO:-0400
TZNAME:EDT
DTSTART:20230312T070000
END:DAYLIGHT
BEGIN:STANDARD
TZOFFSETFROM:-0400
TZOFFSETTO:-0500
TZNAME:EST
DTSTART:20231105T060000
END:STANDARD
BEGIN:DAYLIGHT
TZOFFSETFROM:-0500
TZOFFSETTO:-0400
TZNAME:EDT
DTSTART:20240310T070000
END:DAYLIGHT
BEGIN:STANDARD
TZOFFSETFROM:-0400
TZOFFSETTO:-0500
TZNAME:EST
DTSTART:20241103T060000
END:STANDARD
END:VTIMEZONE
BEGIN:VEVENT
DTSTART;TZID=America/New_York:20230426T170000
DTEND;TZID=America/New_York:20230426T200000
DTSTAMP:20260425T111520
CREATED:20230327T004600Z
LAST-MODIFIED:20230420T130846Z
UID:1080-1682528400-1682539200@rochesterarcheryclub.com
SUMMARY:Club Cleanup Worknight 2023
DESCRIPTION:March 26\, 2023 – Estimated 5-8pm \nRAIN DATE: March 27
URL:https://rochesterarcheryclub.com/event/club-cleanup-worknight/
END:VEVENT
END:VCALENDAR