BEGIN:VCALENDAR
VERSION:2.0
PRODID:-//Rochester Archery Club - ECPv6.15.20//NONSGML v1.0//EN
CALSCALE:GREGORIAN
METHOD:PUBLISH
X-ORIGINAL-URL:https://rochesterarcheryclub.com
X-WR-CALDESC:Events for Rochester Archery Club
REFRESH-INTERVAL;VALUE=DURATION:PT1H
X-Robots-Tag:noindex
X-PUBLISHED-TTL:PT1H
BEGIN:VTIMEZONE
TZID:UTC
BEGIN:STANDARD
TZOFFSETFROM:+0000
TZOFFSETTO:+0000
TZNAME:UTC
DTSTART:20220101T000000
END:STANDARD
END:VTIMEZONE
BEGIN:VEVENT
DTSTART;TZID=UTC:20230503T183000
DTEND;TZID=UTC:20230503T200000
DTSTAMP:20260425T100532
CREATED:20230214T065828Z
LAST-MODIFIED:20240307T230638Z
UID:261-1683138600-1683144000@rochesterarcheryclub.com
SUMMARY:May 2023 Club Meeting
DESCRIPTION:Meet at the Pavilion at the RAC
URL:https://rochesterarcheryclub.com/event/may-club-meeting/
END:VEVENT
END:VCALENDAR