BEGIN:VCALENDAR
VERSION:2.0
PRODID:-//Rochester Archery Club - ECPv6.15.20//NONSGML v1.0//EN
CALSCALE:GREGORIAN
METHOD:PUBLISH
X-WR-CALNAME:Rochester Archery Club
X-ORIGINAL-URL:https://rochesterarcheryclub.com
X-WR-CALDESC:Events for Rochester Archery Club
REFRESH-INTERVAL;VALUE=DURATION:PT1H
X-Robots-Tag:noindex
X-PUBLISHED-TTL:PT1H
BEGIN:VTIMEZONE
TZID:America/New_York
BEGIN:DAYLIGHT
TZOFFSETFROM:-0500
TZOFFSETTO:-0400
TZNAME:EDT
DTSTART:20220313T070000
END:DAYLIGHT
BEGIN:STANDARD
TZOFFSETFROM:-0400
TZOFFSETTO:-0500
TZNAME:EST
DTSTART:20221106T060000
END:STANDARD
BEGIN:DAYLIGHT
TZOFFSETFROM:-0500
TZOFFSETTO:-0400
TZNAME:EDT
DTSTART:20230312T070000
END:DAYLIGHT
BEGIN:STANDARD
TZOFFSETFROM:-0400
TZOFFSETTO:-0500
TZNAME:EST
DTSTART:20231105T060000
END:STANDARD
BEGIN:DAYLIGHT
TZOFFSETFROM:-0500
TZOFFSETTO:-0400
TZNAME:EDT
DTSTART:20240310T070000
END:DAYLIGHT
BEGIN:STANDARD
TZOFFSETFROM:-0400
TZOFFSETTO:-0500
TZNAME:EST
DTSTART:20241103T060000
END:STANDARD
END:VTIMEZONE
BEGIN:VEVENT
DTSTART;TZID=America/New_York:20230623T170000
DTEND;TZID=America/New_York:20230623T193000
DTSTAMP:20260425T085156
CREATED:20230518T192129Z
LAST-MODIFIED:20230604T144552Z
UID:1144-1687539600-1687548600@rochesterarcheryclub.com
SUMMARY:Awards Banquet
DESCRIPTION:Held at the Rochester Archery Club Pavilion \nSocial Hour starting at 5 PM\, followed with dinner at 6:30 PM and annual awards presentation after. \nENTRÉE WILL BE PROVIDED. BRINGING SIDE DISHES SUCH AS SALADS AND DESSERT IS OPTIONAL. \nPLEASE BRING YOUR OWN BEVERAGES. \nWE ARE ALSO PLANNING AN ARCHERY POKER NOVELTY EVENT\, SO BRING YOUR BOWS. $5 FOR 5 ARROWS AND BEST POKER HAND WINS THE POT. \nPLEASE ALSO NOTE THAT THE 3D COURSE WILL BE SET UP FOR THE JUNE WEEKEND SHOOT\, SO MEMBERS CAN COME DOWN EARLIER AND SHOOT THE\n3D COURSE AS WELL. PAY SHOOT FEES IN THE PAY BOX AT THAT TIME. \n 
URL:https://rochesterarcheryclub.com/event/awards-banquet/
END:VEVENT
END:VCALENDAR