BEGIN:VCALENDAR
VERSION:2.0
PRODID:-//Rochester Archery Club - ECPv6.15.20//NONSGML v1.0//EN
CALSCALE:GREGORIAN
METHOD:PUBLISH
X-ORIGINAL-URL:https://rochesterarcheryclub.com
X-WR-CALDESC:Events for Rochester Archery Club
REFRESH-INTERVAL;VALUE=DURATION:PT1H
X-Robots-Tag:noindex
X-PUBLISHED-TTL:PT1H
BEGIN:VTIMEZONE
TZID:UTC
BEGIN:STANDARD
TZOFFSETFROM:+0000
TZOFFSETTO:+0000
TZNAME:UTC
DTSTART:20220101T000000
END:STANDARD
END:VTIMEZONE
BEGIN:VEVENT
DTSTART;TZID=UTC:20230819T000000
DTEND;TZID=UTC:20230820T235959
DTSTAMP:20260425T062749
CREATED:20230214T070945Z
LAST-MODIFIED:20230621T163410Z
UID:285-1692403200-1692575999@rochesterarcheryclub.com
SUMMARY:August 3D shoot
DESCRIPTION:
URL:https://rochesterarcheryclub.com/event/august-3d-shoot/
END:VEVENT
END:VCALENDAR