BEGIN:VCALENDAR
VERSION:2.0
PRODID:-//Rochester Archery Club - ECPv6.15.20//NONSGML v1.0//EN
CALSCALE:GREGORIAN
METHOD:PUBLISH
X-ORIGINAL-URL:https://rochesterarcheryclub.com
X-WR-CALDESC:Events for Rochester Archery Club
REFRESH-INTERVAL;VALUE=DURATION:PT1H
X-Robots-Tag:noindex
X-PUBLISHED-TTL:PT1H
BEGIN:VTIMEZONE
TZID:America/New_York
BEGIN:DAYLIGHT
TZOFFSETFROM:-0500
TZOFFSETTO:-0400
TZNAME:EDT
DTSTART:20230312T070000
END:DAYLIGHT
BEGIN:STANDARD
TZOFFSETFROM:-0400
TZOFFSETTO:-0500
TZNAME:EST
DTSTART:20231105T060000
END:STANDARD
BEGIN:DAYLIGHT
TZOFFSETFROM:-0500
TZOFFSETTO:-0400
TZNAME:EDT
DTSTART:20240310T070000
END:DAYLIGHT
BEGIN:STANDARD
TZOFFSETFROM:-0400
TZOFFSETTO:-0500
TZNAME:EST
DTSTART:20241103T060000
END:STANDARD
BEGIN:DAYLIGHT
TZOFFSETFROM:-0500
TZOFFSETTO:-0400
TZNAME:EDT
DTSTART:20250309T070000
END:DAYLIGHT
BEGIN:STANDARD
TZOFFSETFROM:-0400
TZOFFSETTO:-0500
TZNAME:EST
DTSTART:20251102T060000
END:STANDARD
END:VTIMEZONE
BEGIN:VEVENT
DTSTART;TZID=America/New_York:20240629T000000
DTEND;TZID=America/New_York:20240630T235959
DTSTAMP:20260424T173308
CREATED:20240102T163207Z
LAST-MODIFIED:20240625T180837Z
UID:1486-1719619200-1719791999@rochesterarcheryclub.com
SUMMARY:[CANCELED] June 3-D Shoot
DESCRIPTION:PLEASE NOTE This has been canceled \n  \n 
URL:https://rochesterarcheryclub.com/event/june-3-d-shoot/
LOCATION:Rochester Archery Club
END:VEVENT
END:VCALENDAR