BEGIN:VCALENDAR
VERSION:2.0
PRODID:-//Rochester Archery Club - ECPv6.15.20//NONSGML v1.0//EN
CALSCALE:GREGORIAN
METHOD:PUBLISH
X-WR-CALNAME:Rochester Archery Club
X-ORIGINAL-URL:https://rochesterarcheryclub.com
X-WR-CALDESC:Events for Rochester Archery Club
REFRESH-INTERVAL;VALUE=DURATION:PT1H
X-Robots-Tag:noindex
X-PUBLISHED-TTL:PT1H
BEGIN:VTIMEZONE
TZID:America/New_York
BEGIN:DAYLIGHT
TZOFFSETFROM:-0500
TZOFFSETTO:-0400
TZNAME:EDT
DTSTART:20230312T070000
END:DAYLIGHT
BEGIN:STANDARD
TZOFFSETFROM:-0400
TZOFFSETTO:-0500
TZNAME:EST
DTSTART:20231105T060000
END:STANDARD
BEGIN:DAYLIGHT
TZOFFSETFROM:-0500
TZOFFSETTO:-0400
TZNAME:EDT
DTSTART:20240310T070000
END:DAYLIGHT
BEGIN:STANDARD
TZOFFSETFROM:-0400
TZOFFSETTO:-0500
TZNAME:EST
DTSTART:20241103T060000
END:STANDARD
BEGIN:DAYLIGHT
TZOFFSETFROM:-0500
TZOFFSETTO:-0400
TZNAME:EDT
DTSTART:20250309T070000
END:DAYLIGHT
BEGIN:STANDARD
TZOFFSETFROM:-0400
TZOFFSETTO:-0500
TZNAME:EST
DTSTART:20251102T060000
END:STANDARD
BEGIN:DAYLIGHT
TZOFFSETFROM:-0500
TZOFFSETTO:-0400
TZNAME:EDT
DTSTART:20260308T070000
END:DAYLIGHT
BEGIN:STANDARD
TZOFFSETFROM:-0400
TZOFFSETTO:-0500
TZNAME:EST
DTSTART:20261101T060000
END:STANDARD
BEGIN:DAYLIGHT
TZOFFSETFROM:-0500
TZOFFSETTO:-0400
TZNAME:EDT
DTSTART:20270314T070000
END:DAYLIGHT
BEGIN:STANDARD
TZOFFSETFROM:-0400
TZOFFSETTO:-0500
TZNAME:EST
DTSTART:20271107T060000
END:STANDARD
END:VTIMEZONE
BEGIN:VEVENT
DTSTART;TZID=America/New_York:20260506T180000
DTEND;TZID=America/New_York:20260506T190000
DTSTAMP:20260423T173009
CREATED:20251204T154043Z
LAST-MODIFIED:20251204T154043Z
UID:2090-1778090400-1778094000@rochesterarcheryclub.com
SUMMARY:May Board Meeting
DESCRIPTION:Location: RAC Pavillion (Tentative)
URL:https://rochesterarcheryclub.com/event/may-board-meeting/
END:VEVENT
BEGIN:VEVENT
DTSTART;TZID=America/New_York:20260401T180000
DTEND;TZID=America/New_York:20260401T190000
DTSTAMP:20260423T173009
CREATED:20251204T153957Z
LAST-MODIFIED:20251204T153957Z
UID:2088-1775066400-1775070000@rochesterarcheryclub.com
SUMMARY:April Board Meeting
DESCRIPTION:Location: TBD
URL:https://rochesterarcheryclub.com/event/april-board-meeting/
END:VEVENT
BEGIN:VEVENT
DTSTART;TZID=America/New_York:20260304T180000
DTEND;TZID=America/New_York:20260304T190000
DTSTAMP:20260423T173009
CREATED:20251204T153923Z
LAST-MODIFIED:20251204T153923Z
UID:2086-1772647200-1772650800@rochesterarcheryclub.com
SUMMARY:March Board Meeting
DESCRIPTION:Location: TBD
URL:https://rochesterarcheryclub.com/event/march-board-meeting/
END:VEVENT
BEGIN:VEVENT
DTSTART;TZID=America/New_York:20260204T180000
DTEND;TZID=America/New_York:20260204T190000
DTSTAMP:20260423T173009
CREATED:20251204T153843Z
LAST-MODIFIED:20251204T153843Z
UID:2084-1770228000-1770231600@rochesterarcheryclub.com
SUMMARY:February Board Meeting
DESCRIPTION:Location: TBD
URL:https://rochesterarcheryclub.com/event/february-board-meeting/
END:VEVENT
BEGIN:VEVENT
DTSTART;TZID=America/New_York:20260107T180000
DTEND;TZID=America/New_York:20260107T190000
DTSTAMP:20260423T173009
CREATED:20251204T153816Z
LAST-MODIFIED:20251204T153816Z
UID:2082-1767808800-1767812400@rochesterarcheryclub.com
SUMMARY:January Board Meeting
DESCRIPTION:Location: TBD
URL:https://rochesterarcheryclub.com/event/january-board-meeting/
END:VEVENT
BEGIN:VEVENT
DTSTART;TZID=America/New_York:20251205T173000
DTEND;TZID=America/New_York:20251205T210000
DTSTAMP:20260423T173009
CREATED:20251101T185159Z
LAST-MODIFIED:20251106T144333Z
UID:2056-1764955800-1764968400@rochesterarcheryclub.com
SUMMARY:RAC 2025 Holiday Christmas Party
DESCRIPTION:RAC 2025 Holiday Party
URL:https://rochesterarcheryclub.com/event/rac-2025-holiday-christmas-party/
LOCATION:Tavern22
END:VEVENT
BEGIN:VEVENT
DTSTART;TZID=America/New_York:20251203T180000
DTEND;TZID=America/New_York:20251203T190000
DTSTAMP:20260423T173009
CREATED:20250825T154555Z
LAST-MODIFIED:20250825T154555Z
UID:2040-1764784800-1764788400@rochesterarcheryclub.com
SUMMARY:December 2025 Board and Club Meeting
DESCRIPTION:
URL:https://rochesterarcheryclub.com/event/december-2025-board-and-club-meeting/
END:VEVENT
BEGIN:VEVENT
DTSTART;TZID=America/New_York:20251105T190000
DTEND;TZID=America/New_York:20251105T200000
DTSTAMP:20260423T173009
CREATED:20250825T154514Z
LAST-MODIFIED:20250825T154514Z
UID:2038-1762369200-1762372800@rochesterarcheryclub.com
SUMMARY:November 2025 Board and Club Meeting
DESCRIPTION:
URL:https://rochesterarcheryclub.com/event/november-2025-board-and-club-meeting/
END:VEVENT
BEGIN:VEVENT
DTSTART;TZID=America/New_York:20251001T180000
DTEND;TZID=America/New_York:20251001T190000
DTSTAMP:20260423T173009
CREATED:20250825T154253Z
LAST-MODIFIED:20250828T011905Z
UID:2036-1759341600-1759345200@rochesterarcheryclub.com
SUMMARY:October 2025 Board and Club Meeting
DESCRIPTION:
URL:https://rochesterarcheryclub.com/event/october-2025-board-and-club-meeting/
LOCATION:Rochester Archery Club
END:VEVENT
BEGIN:VEVENT
DTSTART;TZID=America/New_York:20250903T180000
DTEND;TZID=America/New_York:20250903T190000
DTSTAMP:20260423T173009
CREATED:20250825T154039Z
LAST-MODIFIED:20250825T154134Z
UID:2031-1756922400-1756926000@rochesterarcheryclub.com
SUMMARY:September 2025 Board and Club Meeting
DESCRIPTION:
URL:https://rochesterarcheryclub.com/event/september-2025-board-and-club-meeting/
LOCATION:Rochester Archery Club
END:VEVENT
BEGIN:VEVENT
DTSTART;TZID=America/New_York:20250816T000000
DTEND;TZID=America/New_York:20250817T235959
DTSTAMP:20260423T173009
CREATED:20241205T144859Z
LAST-MODIFIED:20250310T142511Z
UID:1886-1755302400-1755475199@rochesterarcheryclub.com
SUMMARY:August 3D Shoot
DESCRIPTION:August 3D Shoot – Compound & Traditional \nAugust 16 & 17 – 8am – 2pm \n\nMembers: $10 Daily & $15 Weekend\nNon-Members: $15 Daily & $25 Weekend\nYouth (12 & Under): Free With Paying Adult\n\n \n2025-August-shoot-flyer
URL:https://rochesterarcheryclub.com/event/august-3d-shoot-2/
END:VEVENT
BEGIN:VEVENT
DTSTART;TZID=America/New_York:20250719T000000
DTEND;TZID=America/New_York:20250720T235959
DTSTAMP:20260423T173009
CREATED:20241205T144818Z
LAST-MODIFIED:20250310T142447Z
UID:1884-1752883200-1753055999@rochesterarcheryclub.com
SUMMARY:July 3D Shoot
DESCRIPTION:July 3D Shoot – Compound & Traditional \nJuly 19 & 20 – 8am – 2pm \n\nMembers: $10 Daily & $15 Weekend\nNon-Members: $15 Daily & $25 Weekend\nYouth (12 & Under): Free With Paying Adult\n\n \n2025 -July-shoot-flyer-1
URL:https://rochesterarcheryclub.com/event/july-3d-shoot-2/
LOCATION:Rochester Archery Club
END:VEVENT
BEGIN:VEVENT
DTSTART;TZID=America/New_York:20250618T173000
DTEND;TZID=America/New_York:20250618T203000
DTSTAMP:20260423T173009
CREATED:20250314T123806Z
LAST-MODIFIED:20250314T123806Z
UID:1945-1750267800-1750278600@rochesterarcheryclub.com
SUMMARY:Kicking Bear Youth Archery Shoot
DESCRIPTION:Join us and Kicking Bear for a FREE event for youth and families. We will shoot bows\, throw tomahawks\, play games\, share a meal & more. \nNo prior archery experience necessary. Equipment provided by Kicking Bear. \n\nWhen: Wednesday June 18th: 5:30-8:30 PM\nWhere: Rochester Archery Club. 697 7th St NW\, Rochester MN\n\n \nKicking Bear Flier \n  \n 
URL:https://rochesterarcheryclub.com/event/kicking-bear-youth-archery-shoot/
LOCATION:Rochester Archery Club
END:VEVENT
BEGIN:VEVENT
DTSTART;TZID=America/New_York:20250531T000000
DTEND;TZID=America/New_York:20250601T235959
DTSTAMP:20260423T173009
CREATED:20241205T144642Z
LAST-MODIFIED:20250310T142429Z
UID:1881-1748649600-1748822399@rochesterarcheryclub.com
SUMMARY:May 3D Shoot
DESCRIPTION:May 3D Shoot – Compound & Traditional \nMay 31 & – June 1 – 8am – 2pm \n\nMembers: $10 Daily & $15 Weekend\nNon-Members: $15 Daily & $25 Weekend\nYouth (12 & Under): Free With Paying Adult\n\n \n2025-May-shoot-flyer
URL:https://rochesterarcheryclub.com/event/3d-shoot/
END:VEVENT
BEGIN:VEVENT
DTSTART;TZID=America/New_York:20250517T000000
DTEND;TZID=America/New_York:20250518T235959
DTSTAMP:20260423T173009
CREATED:20241205T144527Z
LAST-MODIFIED:20250310T142622Z
UID:1879-1747440000-1747612799@rochesterarcheryclub.com
SUMMARY:Traditional 3D Shoot
DESCRIPTION:Traditional Only 3D Shoot \nMay 17 – 18: 8am – 2pm \n\nMembers: $10 Daily & $15 Weekend\nNon-Members: $15 Daily & $25 Weekend\nYouth (12 & Under): Free With Paying Adult\n\n \n2025-trad-shoot-flyer
URL:https://rochesterarcheryclub.com/event/traditional-3d-shoot-2/
LOCATION:Rochester Archery Club
END:VEVENT
BEGIN:VEVENT
DTSTART;TZID=America/New_York:20250507T180000
DTEND;TZID=America/New_York:20250507T190000
DTSTAMP:20260423T173009
CREATED:20250401T021607Z
LAST-MODIFIED:20250401T021607Z
UID:1950-1746640800-1746644400@rochesterarcheryclub.com
SUMMARY:May 2025 Board and Club Meeting
DESCRIPTION:
URL:https://rochesterarcheryclub.com/event/may-2025-board-and-club-meeting/
LOCATION:RAC Pavillion\, 697 75th St NW\, Rochester\, MN\, 55901\, United States
END:VEVENT
BEGIN:VEVENT
DTSTART;TZID=America/New_York:20250402T180000
DTEND;TZID=America/New_York:20250402T190000
DTSTAMP:20260423T173009
CREATED:20250401T021507Z
LAST-MODIFIED:20250401T021637Z
UID:1948-1743616800-1743620400@rochesterarcheryclub.com
SUMMARY:April 2025 Board and Club Meeting
DESCRIPTION:
URL:https://rochesterarcheryclub.com/event/april-2025-board-and-club-meeting/
LOCATION:Coyote Creek\, 3600 Broadway Ave S\, Rochester\, Minnesota\, 55904
END:VEVENT
BEGIN:VEVENT
DTSTART;TZID=America/New_York:20250108T180000
DTEND;TZID=America/New_York:20250108T190000
DTSTAMP:20260423T173009
CREATED:20240829T152227Z
LAST-MODIFIED:20250108T155511Z
UID:1819-1736359200-1736362800@rochesterarcheryclub.com
SUMMARY:January 2025 Board and Club Meeting
DESCRIPTION:Location Tavern 22
URL:https://rochesterarcheryclub.com/event/january-2025-board-and-club-meeting/
LOCATION:Tavern 22\, 3401 Northern Valley Place NE\, Rochester\, Minnesota
END:VEVENT
BEGIN:VEVENT
DTSTART;TZID=America/New_York:20241206T053000
DTEND;TZID=America/New_York:20241206T210000
DTSTAMP:20260423T173009
CREATED:20241205T143907Z
LAST-MODIFIED:20241205T144147Z
UID:1873-1733463000-1733518800@rochesterarcheryclub.com
SUMMARY:RAC Holiday Christmas Party
DESCRIPTION:RAC 2025 Holiday Party
URL:https://rochesterarcheryclub.com/event/rac-holiday-christmas-party/
LOCATION:Tavern 22\, 3401 Northern Valley Place NE\, Rochester\, Minnesota
END:VEVENT
BEGIN:VEVENT
DTSTART;TZID=America/New_York:20241204T180000
DTEND;TZID=America/New_York:20241204T190000
DTSTAMP:20260423T173009
CREATED:20240829T152014Z
LAST-MODIFIED:20241031T013131Z
UID:1814-1733335200-1733338800@rochesterarcheryclub.com
SUMMARY:December 2024 Board and Club Meeting
DESCRIPTION:Location TBD
URL:https://rochesterarcheryclub.com/event/december-2024-board-and-club-meeting/
END:VEVENT
BEGIN:VEVENT
DTSTART;TZID=America/New_York:20241106T190000
DTEND;TZID=America/New_York:20241106T200000
DTSTAMP:20260423T173009
CREATED:20240829T151700Z
LAST-MODIFIED:20241031T013200Z
UID:1809-1730919600-1730923200@rochesterarcheryclub.com
SUMMARY:November 2024 Board and Club Meeting
DESCRIPTION:Location Coyote Creek
URL:https://rochesterarcheryclub.com/event/november-2024-club-meeting/
LOCATION:Coyote Creek\, 3600 Broadway Ave S\, Rochester\, Minnesota\, 55904
END:VEVENT
BEGIN:VEVENT
DTSTART;TZID=America/New_York:20241002T180000
DTEND;TZID=America/New_York:20241002T190000
DTSTAMP:20260423T173009
CREATED:20240927T020314Z
LAST-MODIFIED:20240927T020510Z
UID:1823-1727892000-1727895600@rochesterarcheryclub.com
SUMMARY:October 2024 Board and Club Meeting
DESCRIPTION:
URL:https://rochesterarcheryclub.com/event/october-2024-board-and-club-meeting/
LOCATION:RAC Pavillion\, 697 75th St NW\, Rochester\, MN\, 55901\, United States
END:VEVENT
BEGIN:VEVENT
DTSTART;TZID=America/New_York:20240904T180000
DTEND;TZID=America/New_York:20240904T190000
DTSTAMP:20260423T173009
CREATED:20240829T151343Z
LAST-MODIFIED:20240829T152940Z
UID:1804-1725472800-1725476400@rochesterarcheryclub.com
SUMMARY:September 2024 Board and Club Meeting
DESCRIPTION:
URL:https://rochesterarcheryclub.com/event/september-2024-board-meeting/
LOCATION:RAC Pavillion\, 697 75th St NW\, Rochester\, MN\, 55901\, United States
END:VEVENT
BEGIN:VEVENT
DTSTART;TZID=America/New_York:20240817T000000
DTEND;TZID=America/New_York:20240818T235959
DTSTAMP:20260423T173009
CREATED:20240102T163336Z
LAST-MODIFIED:20240725T161555Z
UID:1490-1723852800-1724025599@rochesterarcheryclub.com
SUMMARY:August 3-D Shoot
DESCRIPTION:
URL:https://rochesterarcheryclub.com/event/august-3-d-shoot/
LOCATION:Rochester Archery Club
END:VEVENT
BEGIN:VEVENT
DTSTART;TZID=America/New_York:20240807T183000
DTEND;TZID=America/New_York:20240807T200000
DTSTAMP:20260423T173009
CREATED:20240803T040422Z
LAST-MODIFIED:20240803T040422Z
UID:1799-1723055400-1723060800@rochesterarcheryclub.com
SUMMARY:August 2024 Club Meeting
DESCRIPTION:August 2024
URL:https://rochesterarcheryclub.com/event/august-2024-club-meeting/
LOCATION:RAC Pavillion\, 697 75th St NW\, Rochester\, MN\, 55901\, United States
END:VEVENT
BEGIN:VEVENT
DTSTART;TZID=America/New_York:20240720T000000
DTEND;TZID=America/New_York:20240721T235959
DTSTAMP:20260423T173009
CREATED:20240102T163304Z
LAST-MODIFIED:20240307T230301Z
UID:1488-1721433600-1721606399@rochesterarcheryclub.com
SUMMARY:July 3-D Shoot
DESCRIPTION:
URL:https://rochesterarcheryclub.com/event/july-3-d-shoot/
LOCATION:Rochester Archery Club
END:VEVENT
BEGIN:VEVENT
DTSTART;TZID=America/New_York:20240629T000000
DTEND;TZID=America/New_York:20240630T235959
DTSTAMP:20260423T173009
CREATED:20240102T163207Z
LAST-MODIFIED:20240625T180837Z
UID:1486-1719619200-1719791999@rochesterarcheryclub.com
SUMMARY:[CANCELED] June 3-D Shoot
DESCRIPTION:PLEASE NOTE This has been canceled \n  \n 
URL:https://rochesterarcheryclub.com/event/june-3-d-shoot/
LOCATION:Rochester Archery Club
END:VEVENT
BEGIN:VEVENT
DTSTART;TZID=America/New_York:20240626T170000
DTEND;TZID=America/New_York:20240626T200000
DTSTAMP:20260423T173009
CREATED:20240619T154848Z
LAST-MODIFIED:20240621T145557Z
UID:1743-1719421200-1719432000@rochesterarcheryclub.com
SUMMARY:2024 Member Picnic and Awards Banquet
DESCRIPTION:We will hold the Picnic Wednesday June 26th\, at the RAC Pavilion. \n(PLEASE NOTE the new rescheduled date due to weather forecasts) \n  \nCome 5PM for social Hour with Dinner at 6:30.  The awards presentation will follow the meal \nA main entrée will be provided.  Please bring your own beverages and optionally a side dish to share. \n2024 RAC Picnic and awards flyer
URL:https://rochesterarcheryclub.com/event/2024-member-picnic-and-awards-banquet/
LOCATION:RAC Pavillion\, 697 75th St NW\, Rochester\, MN\, 55901\, United States
END:VEVENT
BEGIN:VEVENT
DTSTART;TZID=America/New_York:20240619T173000
DTEND;TZID=America/New_York:20240619T200000
DTSTAMP:20260423T173009
CREATED:20240501T215639Z
LAST-MODIFIED:20240619T154955Z
UID:1703-1718818200-1718827200@rochesterarcheryclub.com
SUMMARY:[CANCELLED] 2024 Kids Shoot
DESCRIPTION:Due to the recent weather conditions leading to downed trees and water logged course\, we’ve made the decision with Kicking Bear Ministry to cancel this year’s Kids shoot.\n  \nWe are working with Kicking Bear Ministry to reschedule for later this summer. \n 
URL:https://rochesterarcheryclub.com/event/2024-kids-shoot/
END:VEVENT
BEGIN:VEVENT
DTSTART;TZID=America/New_York:20240525T000000
DTEND;TZID=America/New_York:20240526T235959
DTSTAMP:20260423T173009
CREATED:20240102T163033Z
LAST-MODIFIED:20240102T163033Z
UID:1484-1716595200-1716767999@rochesterarcheryclub.com
SUMMARY:May 3-D Shoot
DESCRIPTION:
URL:https://rochesterarcheryclub.com/event/may-3-d-shoot/
LOCATION:Rochester Archery Club
END:VEVENT
END:VCALENDAR