BEGIN:VCALENDAR
VERSION:2.0
PRODID:-//Rochester Archery Club - ECPv6.15.20//NONSGML v1.0//EN
CALSCALE:GREGORIAN
METHOD:PUBLISH
X-WR-CALNAME:Rochester Archery Club
X-ORIGINAL-URL:https://rochesterarcheryclub.com
X-WR-CALDESC:Events for Rochester Archery Club
REFRESH-INTERVAL;VALUE=DURATION:PT1H
X-Robots-Tag:noindex
X-PUBLISHED-TTL:PT1H
BEGIN:VTIMEZONE
TZID:UTC
BEGIN:STANDARD
TZOFFSETFROM:+0000
TZOFFSETTO:+0000
TZNAME:UTC
DTSTART:20220101T000000
END:STANDARD
END:VTIMEZONE
BEGIN:VEVENT
DTSTART;TZID=UTC:20230405T183000
DTEND;TZID=UTC:20230405T200000
DTSTAMP:20260425T102309
CREATED:20230214T065742Z
LAST-MODIFIED:20240307T230649Z
UID:259-1680719400-1680724800@rochesterarcheryclub.com
SUMMARY:April 2023 Club Meeting
DESCRIPTION:Meeting will be held at Tavern 22 back room  \n3401 Northern Valley Place NE(where holiday get together was)
URL:https://rochesterarcheryclub.com/event/april-club-meeting/
LOCATION:Tavern22
END:VEVENT
BEGIN:VEVENT
DTSTART;TZID=UTC:20230301T183000
DTEND;TZID=UTC:20230301T200000
DTSTAMP:20260425T102309
CREATED:20230214T065615Z
LAST-MODIFIED:20240307T230656Z
UID:257-1677695400-1677700800@rochesterarcheryclub.com
SUMMARY:March 2023 Club Meeting
DESCRIPTION:
URL:https://rochesterarcheryclub.com/event/march-club-meeting/
END:VEVENT
BEGIN:VEVENT
DTSTART;TZID=UTC:20230225T000000
DTEND;TZID=UTC:20230225T235959
DTSTAMP:20260425T102309
CREATED:20230214T071012Z
LAST-MODIFIED:20230214T071012Z
UID:287-1677283200-1677369599@rochesterarcheryclub.com
SUMMARY:Small Game Hunt
DESCRIPTION:
URL:https://rochesterarcheryclub.com/event/small-game-hunt/
END:VEVENT
BEGIN:VEVENT
DTSTART;TZID=UTC:20230214T183000
DTEND;TZID=UTC:20230214T193000
DTSTAMP:20260425T102309
CREATED:20230214T065353Z
LAST-MODIFIED:20240307T230704Z
UID:254-1676399400-1676403000@rochesterarcheryclub.com
SUMMARY:February 2023 Club Meeting
DESCRIPTION:
URL:https://rochesterarcheryclub.com/event/february-club-meeting/
END:VEVENT
BEGIN:VEVENT
DTSTART;TZID=UTC:20230104T183000
DTEND;TZID=UTC:20230104T193000
DTSTAMP:20260425T102309
CREATED:20230221T030658Z
LAST-MODIFIED:20240307T230711Z
UID:252-1672857000-1672860600@rochesterarcheryclub.com
SUMMARY:January 2023 Club Meeting
DESCRIPTION:
URL:https://rochesterarcheryclub.com/event/january-club-meeting/
END:VEVENT
END:VCALENDAR