BEGIN:VCALENDAR
VERSION:2.0
PRODID:-//Rochester Archery Club - ECPv6.15.20//NONSGML v1.0//EN
CALSCALE:GREGORIAN
METHOD:PUBLISH
X-ORIGINAL-URL:https://rochesterarcheryclub.com
X-WR-CALDESC:Events for Rochester Archery Club
REFRESH-INTERVAL;VALUE=DURATION:PT1H
X-Robots-Tag:noindex
X-PUBLISHED-TTL:PT1H
BEGIN:VTIMEZONE
TZID:UTC
BEGIN:STANDARD
TZOFFSETFROM:+0000
TZOFFSETTO:+0000
TZNAME:UTC
DTSTART:20220101T000000
END:STANDARD
END:VTIMEZONE
BEGIN:VEVENT
DTSTART;TZID=UTC:20230503T183000
DTEND;TZID=UTC:20230503T200000
DTSTAMP:20260425T085409
CREATED:20230214T065828Z
LAST-MODIFIED:20240307T230638Z
UID:261-1683138600-1683144000@rochesterarcheryclub.com
SUMMARY:May 2023 Club Meeting
DESCRIPTION:Meet at the Pavilion at the RAC
URL:https://rochesterarcheryclub.com/event/may-club-meeting/
END:VEVENT
BEGIN:VEVENT
DTSTART;TZID=UTC:20230520T000000
DTEND;TZID=UTC:20230521T235959
DTSTAMP:20260425T085409
CREATED:20230214T070617Z
LAST-MODIFIED:20230214T070617Z
UID:277-1684540800-1684713599@rochesterarcheryclub.com
SUMMARY:Traditional 3D shoot
DESCRIPTION:
URL:https://rochesterarcheryclub.com/event/traditional-3d-shoot/
END:VEVENT
BEGIN:VEVENT
DTSTART;TZID=UTC:20230527T000000
DTEND;TZID=UTC:20230528T235959
DTSTAMP:20260425T085409
CREATED:20230214T070725Z
LAST-MODIFIED:20230214T070725Z
UID:279-1685145600-1685318399@rochesterarcheryclub.com
SUMMARY:May 3D shoot
DESCRIPTION:
URL:https://rochesterarcheryclub.com/event/may-3d-shoot/
END:VEVENT
END:VCALENDAR